BEGIN:VCALENDAR
VERSION:2.0
PRODID:-//Ecole Notre-Dame Tourlaville - ECPv6.6.4.2//NONSGML v1.0//EN
CALSCALE:GREGORIAN
METHOD:PUBLISH
X-WR-CALNAME:Ecole Notre-Dame Tourlaville
X-ORIGINAL-URL:https://ecolenotredametourlaville.fr
X-WR-CALDESC:évènements pour Ecole Notre-Dame Tourlaville
REFRESH-INTERVAL;VALUE=DURATION:PT1H
X-Robots-Tag:noindex
X-PUBLISHED-TTL:PT1H
BEGIN:VTIMEZONE
TZID:Europe/Paris
BEGIN:DAYLIGHT
TZOFFSETFROM:+0100
TZOFFSETTO:+0200
TZNAME:CEST
DTSTART:20260329T010000
END:DAYLIGHT
BEGIN:STANDARD
TZOFFSETFROM:+0200
TZOFFSETTO:+0100
TZNAME:CET
DTSTART:20261025T010000
END:STANDARD
END:VTIMEZONE
BEGIN:VEVENT
DTSTART;VALUE=DATE:20260615
DTEND;VALUE=DATE:20260616
DTSTAMP:20260421T154847
CREATED:20240609T093026Z
LAST-MODIFIED:20260418T124814Z
UID:5687-1781481600-1781567999@ecolenotredametourlaville.fr
SUMMARY:Tournoi de rugby inter-écoles.
DESCRIPTION:Les élèves du CE2 au CM2 participeront à un tournoi de rugby à l’école Notre Dame de Saint-Pierre-Eglise.
URL:https://ecolenotredametourlaville.fr/evenement/boum-a-lecole-notre-dame-2/
LOCATION:Ecole Notre Dame Tourlaville\, 181 rue Gambetta\, Tourlaville\, 50110
CATEGORIES:Mis en avant
ATTACH;FMTTYPE=image/jpeg:https://ecolenotredametourlaville.fr/wp-content/uploads/2024/06/rugby.jpg
END:VEVENT
BEGIN:VEVENT
DTSTART;TZID=Europe/Paris:20260619T173000
DTEND;TZID=Europe/Paris:20260619T190000
DTSTAMP:20260421T154847
CREATED:20240609T093707Z
LAST-MODIFIED:20260418T124641Z
UID:5692-1781890200-1781895600@ecolenotredametourlaville.fr
SUMMARY:Accueil des nouvelles familles
DESCRIPTION:L’équipe éducative ainsi que l’APEL rencontreront les élèves arrivant dans l’école pour l’année scolaire 2026-2027. \nUn moment de partage entre les enseignants et leurs futurs élèves.
URL:https://ecolenotredametourlaville.fr/evenement/accueil-des-nouvelles-familles/
LOCATION:Ecole Notre Dame Tourlaville\, 181 rue Gambetta\, Tourlaville\, 50110
CATEGORIES:Mis en avant
ATTACH;FMTTYPE=image/png:https://ecolenotredametourlaville.fr/wp-content/uploads/2023/08/logo-ecole-notre-dame-tourlaville.png
END:VEVENT
BEGIN:VEVENT
DTSTART;TZID=Europe/Paris:20260628T104500
DTEND;TZID=Europe/Paris:20260628T164500
DTSTAMP:20260421T154847
CREATED:20240623T182139Z
LAST-MODIFIED:20260418T124457Z
UID:5702-1782643500-1782665100@ecolenotredametourlaville.fr
SUMMARY:Kermesse 2025
DESCRIPTION:L’APEL organise la kermesse traditionnelle de cette fin d’année! \nTous les enfants de chaque classe ont préparé une petite danse qui s’articulera autour du thème de l’eau cectte année. Des stands de jeux et de restauration seront ouverts toute la journée! \nNous vous attendons nombreux pour profiter de ce moment convivial.
URL:https://ecolenotredametourlaville.fr/evenement/kermesse-2024/
LOCATION:Ecole Notre Dame Tourlaville\, 181 rue Gambetta\, Tourlaville\, 50110
ATTACH;FMTTYPE=image/jpeg:https://ecolenotredametourlaville.fr/wp-content/uploads/2025/06/Colorful-Doodle-Community-Event-Day-Poster.jpg
END:VEVENT
END:VCALENDAR